BEGIN:VCALENDAR
VERSION:2.0
PRODID:-//West Central Church of Christ - ECPv6.15.20//NONSGML v1.0//EN
CALSCALE:GREGORIAN
METHOD:PUBLISH
X-WR-CALNAME:West Central Church of Christ
X-ORIGINAL-URL:https://www.wccoc.org
X-WR-CALDESC:Events for West Central Church of Christ
REFRESH-INTERVAL;VALUE=DURATION:PT1H
X-Robots-Tag:noindex
X-PUBLISHED-TTL:PT1H
BEGIN:VTIMEZONE
TZID:America/Chicago
BEGIN:DAYLIGHT
TZOFFSETFROM:-0600
TZOFFSETTO:-0500
TZNAME:CDT
DTSTART:20250309T080000
END:DAYLIGHT
BEGIN:STANDARD
TZOFFSETFROM:-0500
TZOFFSETTO:-0600
TZNAME:CST
DTSTART:20251102T070000
END:STANDARD
BEGIN:DAYLIGHT
TZOFFSETFROM:-0600
TZOFFSETTO:-0500
TZNAME:CDT
DTSTART:20260308T080000
END:DAYLIGHT
BEGIN:STANDARD
TZOFFSETFROM:-0500
TZOFFSETTO:-0600
TZNAME:CST
DTSTART:20261101T070000
END:STANDARD
BEGIN:DAYLIGHT
TZOFFSETFROM:-0600
TZOFFSETTO:-0500
TZNAME:CDT
DTSTART:20270314T080000
END:DAYLIGHT
BEGIN:STANDARD
TZOFFSETFROM:-0500
TZOFFSETTO:-0600
TZNAME:CST
DTSTART:20271107T070000
END:STANDARD
END:VTIMEZONE
BEGIN:VEVENT
DTSTART;TZID=America/Chicago:20260207T113000
DTEND;TZID=America/Chicago:20260207T123000
DTSTAMP:20260420T200103
CREATED:20251223T164224Z
LAST-MODIFIED:20260102T153231Z
UID:1115-1770463800-1770467400@www.wccoc.org
SUMMARY:Biblical Foundations & New Converts Class
DESCRIPTION:
URL:https://www.wccoc.org/event/biblical-foundations-new-converts-class/
LOCATION:West Central Church of Christ\, 4662 Delmar Blvd.\, St. Louis\, MO\, 63108-1704\, United States
CATEGORIES:Main Events
ATTACH;FMTTYPE=image/jpeg:https://www.wccoc.org/wp-content/uploads/2025/12/West-Central-Church-of-Christ-2026-Ministry-Plan-Theme-The-Holiness-of-God-and-His-People-Dedication-2026-—-West-Central-Church-of-Christ-Visual-Church-logo-church-building-or-congregation-photo-16.jpg
ORGANIZER;CN="West Central Church of Christ":MAILTO:wccocminister@gmail.com
END:VEVENT
END:VCALENDAR