BEGIN:VCALENDAR
VERSION:2.0
PRODID:-//West Central Church of Christ - ECPv6.15.20//NONSGML v1.0//EN
CALSCALE:GREGORIAN
METHOD:PUBLISH
X-ORIGINAL-URL:https://www.wccoc.org
X-WR-CALDESC:Events for West Central Church of Christ
REFRESH-INTERVAL;VALUE=DURATION:PT1H
X-Robots-Tag:noindex
X-PUBLISHED-TTL:PT1H
BEGIN:VTIMEZONE
TZID:America/Chicago
BEGIN:DAYLIGHT
TZOFFSETFROM:-0600
TZOFFSETTO:-0500
TZNAME:CDT
DTSTART:20250309T080000
END:DAYLIGHT
BEGIN:STANDARD
TZOFFSETFROM:-0500
TZOFFSETTO:-0600
TZNAME:CST
DTSTART:20251102T070000
END:STANDARD
BEGIN:DAYLIGHT
TZOFFSETFROM:-0600
TZOFFSETTO:-0500
TZNAME:CDT
DTSTART:20260308T080000
END:DAYLIGHT
BEGIN:STANDARD
TZOFFSETFROM:-0500
TZOFFSETTO:-0600
TZNAME:CST
DTSTART:20261101T070000
END:STANDARD
BEGIN:DAYLIGHT
TZOFFSETFROM:-0600
TZOFFSETTO:-0500
TZNAME:CDT
DTSTART:20270314T080000
END:DAYLIGHT
BEGIN:STANDARD
TZOFFSETFROM:-0500
TZOFFSETTO:-0600
TZNAME:CST
DTSTART:20271107T070000
END:STANDARD
END:VTIMEZONE
BEGIN:VEVENT
DTSTART;VALUE=DATE:20260709
DTEND;VALUE=DATE:20260712
DTSTAMP:20260420T101534
CREATED:20251226T155844Z
LAST-MODIFIED:20260417T171151Z
UID:1132-1783555200-1783814399@www.wccoc.org
SUMMARY:Congregational Trip - Ark Encounter & Creation Museum
DESCRIPTION:Please enable JavaScript in your browser to complete this form.Please enable JavaScript in your browser to complete this form.Name *FirstLastPhone *Email *AddressAddress Line 1Address Line 2City--- Select state ---AlabamaAlaskaArizonaArkansasCaliforniaColoradoConnecticutDelawareDistrict of ColumbiaFloridaGeorgiaHawaiiIdahoIllinoisIndianaIowaKansasKentuckyLouisianaMaineMarylandMassachusettsMichiganMinnesotaMississippiMissouriMontanaNebraskaNevadaNew HampshireNew JerseyNew MexicoNew YorkNorth CarolinaNorth DakotaOhioOklahomaOregonPennsylvaniaRhode IslandSouth CarolinaSouth DakotaTennesseeTexasUtahVermontVirginiaWashingtonWest VirginiaWisconsinWyomingStateZip CodeAddiditional AttendeesAdd Name(s)Children under 17 must be accompanied by an adult.Name *FirstLastNameFirstLastNameFirstLastNameFirstLastNameFirstLastTicket Pricing Children under 17 must be accompanied by an adult. Adult (ages 18–59)Price: $109.99012345678910		\n			(ages Youth \n			\n		\n		Senior (ages 60+)Price: $99.99012345678910Youth (ages 11–17)Price: $59.99012345678910Must be accompanied by an adult.Children (10 and under)Price: $0.00012345678910Must be accompanied by an adult.Total$0.00PayPal Commerce *PayPal CheckoutCredit CardCard NumberExpiration DateSecurity CodeCard Holder NameSubmit
URL:https://www.wccoc.org/event/congregation-trip-noahs-ark/
LOCATION:West Central Church of Christ\, 4662 Delmar Blvd.\, St. Louis\, MO\, 63108-1704\, United States
CATEGORIES:Main Events
ATTACH;FMTTYPE=image/png:https://www.wccoc.org/wp-content/uploads/2025/12/Mar-01-26-Morning-Worship-Sermon-Slides-1.png
ORGANIZER;CN="West Central Church of Christ":MAILTO:wccocminister@gmail.com
END:VEVENT
END:VCALENDAR